BEGIN:VCALENDAR
VERSION:2.0
PRODID:-//The Delaware CTR ACCEL Program - ECPv6.15.20//NONSGML v1.0//EN
CALSCALE:GREGORIAN
METHOD:PUBLISH
X-WR-CALNAME:The Delaware CTR ACCEL Program
X-ORIGINAL-URL:https://www.de-ctr.org
X-WR-CALDESC:Events for The Delaware CTR ACCEL Program
REFRESH-INTERVAL;VALUE=DURATION:PT1H
X-Robots-Tag:noindex
X-PUBLISHED-TTL:PT1H
BEGIN:VTIMEZONE
TZID:America/New_York
BEGIN:DAYLIGHT
TZOFFSETFROM:-0500
TZOFFSETTO:-0400
TZNAME:EDT
DTSTART:20250309T070000
END:DAYLIGHT
BEGIN:STANDARD
TZOFFSETFROM:-0400
TZOFFSETTO:-0500
TZNAME:EST
DTSTART:20251102T060000
END:STANDARD
BEGIN:DAYLIGHT
TZOFFSETFROM:-0500
TZOFFSETTO:-0400
TZNAME:EDT
DTSTART:20260308T070000
END:DAYLIGHT
BEGIN:STANDARD
TZOFFSETFROM:-0400
TZOFFSETTO:-0500
TZNAME:EST
DTSTART:20261101T060000
END:STANDARD
BEGIN:DAYLIGHT
TZOFFSETFROM:-0500
TZOFFSETTO:-0400
TZNAME:EDT
DTSTART:20270314T070000
END:DAYLIGHT
BEGIN:STANDARD
TZOFFSETFROM:-0400
TZOFFSETTO:-0500
TZNAME:EST
DTSTART:20271107T060000
END:STANDARD
END:VTIMEZONE
BEGIN:VEVENT
DTSTART;TZID=America/New_York:20260305T090000
DTEND;TZID=America/New_York:20260305T093000
DTSTAMP:20260421T143724
CREATED:20260127T152642Z
LAST-MODIFIED:20260127T152642Z
UID:7128-1772701200-1772703000@www.de-ctr.org
SUMMARY:JIN Presentation:  Sudden Cardiac Arrest Preparedness in Delaware State Schools
DESCRIPTION:Please join us at our JIN Touchbase call each Thursday at 9am.  This is a great opportunity to collaborate\, share ideas\, and hear a guest presentation from a member or friend of the JIN.  All are welcome! \n  \nThis week’s guest presentation will be: \n“Sudden Cardiac Arrest Preparedness in Delaware State Schools” \n  \nPresented by: \nSean Connolly\, MD \nNemours \n  \n  \n  \nThe Microsoft Teams link is included below under “Website”. \n  \nWant to learn more or join the JIN? Please email Mentoring@de-ctr.org to gain access to a variety of professional development resources\, including individual grant proposal review sessions\, as well as a (sometimes) weekly newsletter filled with news and funding opportunities. \nCheck us out on YouTube and X (formerly Twitter)!
URL:https://www.de-ctr.org/event/jin-presentation-sudden-cardiac-arrest-preparedness-in-delaware-state-schools/
LOCATION:Microsoft Teams
CATEGORIES:JIN
ATTACH;FMTTYPE=image/png:https://www.de-ctr.org/wp-content/uploads/2024/04/JIN-Logo.png
ORGANIZER;CN="JIN (Junior Investigators Network)":MAILTO:JIN@de-ctr.org
END:VEVENT
END:VCALENDAR