BEGIN:VCALENDAR
VERSION:2.0
PRODID:-//The Delaware CTR ACCEL Program - ECPv6.15.20//NONSGML v1.0//EN
CALSCALE:GREGORIAN
METHOD:PUBLISH
X-ORIGINAL-URL:https://www.de-ctr.org
X-WR-CALDESC:Events for The Delaware CTR ACCEL Program
REFRESH-INTERVAL;VALUE=DURATION:PT1H
X-Robots-Tag:noindex
X-PUBLISHED-TTL:PT1H
BEGIN:VTIMEZONE
TZID:America/New_York
BEGIN:DAYLIGHT
TZOFFSETFROM:-0500
TZOFFSETTO:-0400
TZNAME:EDT
DTSTART:20240310T070000
END:DAYLIGHT
BEGIN:STANDARD
TZOFFSETFROM:-0400
TZOFFSETTO:-0500
TZNAME:EST
DTSTART:20241103T060000
END:STANDARD
BEGIN:DAYLIGHT
TZOFFSETFROM:-0500
TZOFFSETTO:-0400
TZNAME:EDT
DTSTART:20250309T070000
END:DAYLIGHT
BEGIN:STANDARD
TZOFFSETFROM:-0400
TZOFFSETTO:-0500
TZNAME:EST
DTSTART:20251102T060000
END:STANDARD
BEGIN:DAYLIGHT
TZOFFSETFROM:-0500
TZOFFSETTO:-0400
TZNAME:EDT
DTSTART:20260308T070000
END:DAYLIGHT
BEGIN:STANDARD
TZOFFSETFROM:-0400
TZOFFSETTO:-0500
TZNAME:EST
DTSTART:20261101T060000
END:STANDARD
END:VTIMEZONE
BEGIN:VEVENT
DTSTART;TZID=America/New_York:20251002T090000
DTEND;TZID=America/New_York:20251002T093000
DTSTAMP:20260421T211745
CREATED:20250724T161733Z
LAST-MODIFIED:20250724T162351Z
UID:6659-1759395600-1759397400@www.de-ctr.org
SUMMARY:JIN Presentation: Christopher Martens\, PhD presents his latest research
DESCRIPTION:Please join us at our JIN Touchbase call each Thursday at 9am.  This is a great opportunity to collaborate\, share ideas\, and hear a guest presentation from a member or friend of the JIN.  All are welcome! \n  \nThis week’s guest presentation will be: \n“TBD“ \n  \nPresented by: \nChristopher Martens\, PhD \nUniversity of Delaware \n  \n  \n  \nThe Microsoft Teams link is included below under “Website”. \n  \nWant to learn more or join the JIN? Please email Mentoring@de-ctr.org to gain access to a variety of professional development resources\, including individual grant proposal review sessions\, as well as a (sometimes) weekly newsletter filled with news and funding opportunities. \nCheck us out on YouTube and X (formerly Twitter)!
URL:https://www.de-ctr.org/event/jin-presentation-christopher-martens-phd-presents-his-latest-research/
LOCATION:Microsoft Teams
CATEGORIES:JIN
ATTACH;FMTTYPE=image/png:https://www.de-ctr.org/wp-content/uploads/2024/04/JIN-Logo.png
ORGANIZER;CN="JIN (Junior Investigators Network)":MAILTO:JIN@de-ctr.org
END:VEVENT
BEGIN:VEVENT
DTSTART;TZID=America/New_York:20251009T090000
DTEND;TZID=America/New_York:20251009T093000
DTSTAMP:20260421T211745
CREATED:20251008T114035Z
LAST-MODIFIED:20251008T114035Z
UID:6843-1760000400-1760002200@www.de-ctr.org
SUMMARY:JIN Presentation: Suzanne McCahan\, PhD presents about REDCap
DESCRIPTION:Please join us at our JIN Touchbase call each Thursday at 9am.  This is a great opportunity to collaborate\, share ideas\, and hear a guest presentation from a member or friend of the JIN.  All are welcome! \n  \nThis week’s guest presentation will be: \n“REDCap“ \n  \nPresented by: \nSuzanne McCahan\, PhD \nNemours Children’s Health \n  \n  \n  \nThe Microsoft Teams link is included below under “Website”. \n  \nWant to learn more or join the JIN? Please email Mentoring@de-ctr.org to gain access to a variety of professional development resources\, including individual grant proposal review sessions\, as well as a (sometimes) weekly newsletter filled with news and funding opportunities. \nCheck us out on YouTube and X (formerly Twitter)!
URL:https://www.de-ctr.org/event/jin-presentation-suzanne-mccahan-phd-presents-about-redcap/
LOCATION:Microsoft Teams
CATEGORIES:JIN
ATTACH;FMTTYPE=image/png:https://www.de-ctr.org/wp-content/uploads/2024/04/JIN-Logo.png
ORGANIZER;CN="JIN (Junior Investigators Network)":MAILTO:JIN@de-ctr.org
END:VEVENT
BEGIN:VEVENT
DTSTART;TZID=America/New_York:20251016T090000
DTEND;TZID=America/New_York:20251016T093000
DTSTAMP:20260421T211745
CREATED:20250805T154842Z
LAST-MODIFIED:20250805T155218Z
UID:6688-1760605200-1760607000@www.de-ctr.org
SUMMARY:JIN Presentation: Edward Mougey\, PhD presents his latest research
DESCRIPTION:Please join us at our JIN Touchbase call each Thursday at 9am.  This is a great opportunity to collaborate\, share ideas\, and hear a guest presentation from a member or friend of the JIN.  All are welcome! \n  \nThis week’s guest presentation will be: \n“TBD” \n  \nPresented by: \nEdward Mougey\, PhD \nNemours Children’s Health \n  \n  \n  \nThe Microsoft Teams link is included below under “Website”. \n  \nWant to learn more or join the JIN? Please email Mentoring@de-ctr.org to gain access to a variety of professional development resources\, including individual grant proposal review sessions\, as well as a (sometimes) weekly newsletter filled with news and funding opportunities. \nCheck us out on YouTube and X (formerly Twitter)!
URL:https://www.de-ctr.org/event/jin-presentation-edward-mougey-phd-presents-his-latest-research/
LOCATION:Microsoft Teams
CATEGORIES:JIN
ATTACH;FMTTYPE=image/png:https://www.de-ctr.org/wp-content/uploads/2024/04/JIN-Logo.png
ORGANIZER;CN="JIN (Junior Investigators Network)":MAILTO:JIN@de-ctr.org
END:VEVENT
BEGIN:VEVENT
DTSTART;TZID=America/New_York:20251023T090000
DTEND;TZID=America/New_York:20251023T093000
DTSTAMP:20260421T211745
CREATED:20250724T162103Z
LAST-MODIFIED:20250724T162338Z
UID:6661-1761210000-1761211800@www.de-ctr.org
SUMMARY:JIN Presentation: From Bench to Bedside: Molecular Strategies in Sarcoma and Pediatric Oncology
DESCRIPTION:Please join us at our JIN Touchbase call each Thursday at 9am.  This is a great opportunity to collaborate\, share ideas\, and hear a guest presentation from a member or friend of the JIN.  All are welcome! \n  \nThis week’s guest presentation will be: \n“From Bench to Bedside: Molecular Strategies in Sarcoma and Pediatric Oncology” \n  \nPresented by: \nNathan Seligson\, PharmD \nNemours Children’s Health \n  \n  \n  \nThe Microsoft Teams link is included below under “Website”. \n  \nWant to learn more or join the JIN? Please email Mentoring@de-ctr.org to gain access to a variety of professional development resources\, including individual grant proposal review sessions\, as well as a (sometimes) weekly newsletter filled with news and funding opportunities. \nCheck us out on YouTube and X (formerly Twitter)!
URL:https://www.de-ctr.org/event/jin-presentation-from-bench-to-bedside-molecular-strategies-in-sarcoma-and-pediatric-oncology/
LOCATION:Microsoft Teams
CATEGORIES:JIN
ATTACH;FMTTYPE=image/png:https://www.de-ctr.org/wp-content/uploads/2024/04/JIN-Logo.png
ORGANIZER;CN="JIN (Junior Investigators Network)":MAILTO:JIN@de-ctr.org
END:VEVENT
BEGIN:VEVENT
DTSTART;TZID=America/New_York:20251030T090000
DTEND;TZID=America/New_York:20251030T093000
DTSTAMP:20260421T211745
CREATED:20250724T162153Z
LAST-MODIFIED:20250724T180147Z
UID:6663-1761814800-1761816600@www.de-ctr.org
SUMMARY:JIN Presentation: Family Psychosocial Risk in Cerebral Palsy: Engaging Stakeholders to adapt the Psychosocial Assessment Tool (PAT)
DESCRIPTION:Please join us at our JIN Touchbase call each Thursday at 9am.  This is a great opportunity to collaborate\, share ideas\, and hear a guest presentation from a member or friend of the JIN.  All are welcome! \n  \nThis week’s guest presentation will be: \n“Family Psychosocial Risk in Cerebral Palsy: Engaging Stakeholders to adapt the Psychosocial Assessment Tool (PAT)” \n  \nPresented by: \nNicole Enlow\, PhD \nNemours Children’s Health \n  \n  \n  \nThe Microsoft Teams link is included below under “Website”. \n  \nWant to learn more or join the JIN? Please email Mentoring@de-ctr.org to gain access to a variety of professional development resources\, including individual grant proposal review sessions\, as well as a (sometimes) weekly newsletter filled with news and funding opportunities. \nCheck us out on YouTube and X (formerly Twitter)!
URL:https://www.de-ctr.org/event/jin-presentation-nicole-enlow-phd-presents-her-latest-research/
LOCATION:Microsoft Teams
CATEGORIES:JIN
ATTACH;FMTTYPE=image/png:https://www.de-ctr.org/wp-content/uploads/2024/04/JIN-Logo.png
ORGANIZER;CN="JIN (Junior Investigators Network)":MAILTO:JIN@de-ctr.org
END:VEVENT
END:VCALENDAR