BEGIN:VCALENDAR
VERSION:2.0
PRODID:-//The Delaware CTR ACCEL Program - ECPv6.15.20//NONSGML v1.0//EN
CALSCALE:GREGORIAN
METHOD:PUBLISH
X-ORIGINAL-URL:https://www.de-ctr.org
X-WR-CALDESC:Events for The Delaware CTR ACCEL Program
REFRESH-INTERVAL;VALUE=DURATION:PT1H
X-Robots-Tag:noindex
X-PUBLISHED-TTL:PT1H
BEGIN:VTIMEZONE
TZID:America/New_York
BEGIN:DAYLIGHT
TZOFFSETFROM:-0500
TZOFFSETTO:-0400
TZNAME:EDT
DTSTART:20230312T070000
END:DAYLIGHT
BEGIN:STANDARD
TZOFFSETFROM:-0400
TZOFFSETTO:-0500
TZNAME:EST
DTSTART:20231105T060000
END:STANDARD
BEGIN:DAYLIGHT
TZOFFSETFROM:-0500
TZOFFSETTO:-0400
TZNAME:EDT
DTSTART:20240310T070000
END:DAYLIGHT
BEGIN:STANDARD
TZOFFSETFROM:-0400
TZOFFSETTO:-0500
TZNAME:EST
DTSTART:20241103T060000
END:STANDARD
BEGIN:DAYLIGHT
TZOFFSETFROM:-0500
TZOFFSETTO:-0400
TZNAME:EDT
DTSTART:20250309T070000
END:DAYLIGHT
BEGIN:STANDARD
TZOFFSETFROM:-0400
TZOFFSETTO:-0500
TZNAME:EST
DTSTART:20251102T060000
END:STANDARD
END:VTIMEZONE
BEGIN:VEVENT
DTSTART;TZID=America/New_York:20241128T090000
DTEND;TZID=America/New_York:20241128T093000
DTSTAMP:20260422T154521
CREATED:20240903T134822Z
LAST-MODIFIED:20240903T134822Z
UID:6004-1732784400-1732786200@www.de-ctr.org
SUMMARY:No JIN call on November 28! Happy Thanksgiving!!
DESCRIPTION:There will be no JIN call on Thursday\, November 28\, 2024 in honor of Thanksgiving Day.   \n  \nOur regular series cadence will resume the following week on December 5. \n  \nThank you!
URL:https://www.de-ctr.org/event/no-jin-call-on-november-28-happy-thanksgiving/
CATEGORIES:JIN
ATTACH;FMTTYPE=image/jpeg:https://www.de-ctr.org/wp-content/uploads/2024/07/pexels-myfoodie-3094075-scaled.jpg
ORGANIZER;CN="JIN (Junior Investigators Network)":MAILTO:JIN@de-ctr.org
END:VEVENT
END:VCALENDAR