BEGIN:VCALENDAR
VERSION:2.0
PRODID:-//The Delaware CTR ACCEL Program - ECPv6.15.20//NONSGML v1.0//EN
CALSCALE:GREGORIAN
METHOD:PUBLISH
X-WR-CALNAME:The Delaware CTR ACCEL Program
X-ORIGINAL-URL:https://www.de-ctr.org
X-WR-CALDESC:Events for The Delaware CTR ACCEL Program
REFRESH-INTERVAL;VALUE=DURATION:PT1H
X-Robots-Tag:noindex
X-PUBLISHED-TTL:PT1H
BEGIN:VTIMEZONE
TZID:America/New_York
BEGIN:DAYLIGHT
TZOFFSETFROM:-0500
TZOFFSETTO:-0400
TZNAME:EDT
DTSTART:20250309T070000
END:DAYLIGHT
BEGIN:STANDARD
TZOFFSETFROM:-0400
TZOFFSETTO:-0500
TZNAME:EST
DTSTART:20251102T060000
END:STANDARD
BEGIN:DAYLIGHT
TZOFFSETFROM:-0500
TZOFFSETTO:-0400
TZNAME:EDT
DTSTART:20260308T070000
END:DAYLIGHT
BEGIN:STANDARD
TZOFFSETFROM:-0400
TZOFFSETTO:-0500
TZNAME:EST
DTSTART:20261101T060000
END:STANDARD
BEGIN:DAYLIGHT
TZOFFSETFROM:-0500
TZOFFSETTO:-0400
TZNAME:EDT
DTSTART:20270314T070000
END:DAYLIGHT
BEGIN:STANDARD
TZOFFSETFROM:-0400
TZOFFSETTO:-0500
TZNAME:EST
DTSTART:20271107T060000
END:STANDARD
END:VTIMEZONE
BEGIN:VEVENT
DTSTART;TZID=America/New_York:20260101T090000
DTEND;TZID=America/New_York:20260101T093000
DTSTAMP:20260421T161258
CREATED:20250724T162559Z
LAST-MODIFIED:20250724T162559Z
UID:6670-1767258000-1767259800@www.de-ctr.org
SUMMARY:No JIN Call on Thursday\, Jan. 1
DESCRIPTION:Happy New Year!
URL:https://www.de-ctr.org/event/no-jin-call-on-thursday-jan-1/
CATEGORIES:JIN
ATTACH;FMTTYPE=image/png:https://www.de-ctr.org/wp-content/uploads/2024/04/JIN-Logo.png
ORGANIZER;CN="JIN (Junior Investigators Network)":MAILTO:JIN@de-ctr.org
END:VEVENT
BEGIN:VEVENT
DTSTART;TZID=America/New_York:20260115T163000
DTEND;TZID=America/New_York:20260115T193000
DTSTAMP:20260421T161258
CREATED:20251027T165124Z
LAST-MODIFIED:20251027T165124Z
UID:6904-1768494600-1768505400@www.de-ctr.org
SUMMARY:Register Now for JIN-CARE 2026!
DESCRIPTION:Please register for our annual JIN-CARE dinner and awards event on Thursday\, January 15\, 2026!\n  \nWhat: JIN-CARE (Junior Investigators Network – Career Advancement and Research Exchange) night\, complete with dinner and awards! \nWhen: Evening of Thursday\, January 15\, 2026 at 4:30-7:30pm \nWhere: Doubletree by Hilton\, ‘Canterbury Room’\, 4727 Concord Pike\, Wilmington\, DE 19803 \nWhy: To network\, mingle\, eat\, and celebrate our accomplishments from 2024 \nWho: All JIN members\, new and old \n  \nREGISTER HERE.\n  \nMeeting Agenda: \n\n4:30pm-5:30pm: Networking and Appetizers\n5:30pm-6:30pm: Focus Groups – Leadership will step out so junior investigators can speak freely\n6:30pm-7:30pm: Dinner\, Awards\, and Networking\n\n  \nSeats are limited\, and early registration is strongly encouraged! \nSeema S. Sonnad Mentor of the Year Award \nWe are also asking for nominations for the Seema S. Sonnad Mentor of the Year Award.\nPlease go to the registration link to nominate your favorite mentor.  Attendance at the event is not required to submit a nomination. \nPlease provide your nominee’s name and share why you believe they should be acknowledged.  Feel free to highlight the qualities they exhibit that showcase their exceptional mentorship.  You may nominate anyone you feel is an extraordinary mentor for you; they do not have to be a Primary PI. \nTo help with your decision\, below are some of the criteria that may make a good mentor: \n\nHelps to set concrete goals and helps you achieve these goals\nA good listener who also communicates clearly\nProvides honest feedback that is not demeaning\nDoes not micromanage through unrealistic expectations and demands\nDefines people by their strengths and potential rather than limitations\nRespects their trainees as a peer rather than a cheap pair of hands\n\n  \nPast Recipients: \n\n\n\n2016 – Melinda Duncan\, PhD\, University of Delaware\n2017 – Andy Kolb\, MD\, Nemours Children’s Health\n2018 – Claudine Jurkovitz\, MD\, MPH\, ChristianaCare Health Services\n2019 – Anne Kazak\, PhD\, Nemours Children’s Health\n2020-2022 – hiatus due to COVID-19\n2023 – Melissa Alderfer\, PhD\, Nemours Children’s Health\n2024 – Susan D. Smith\, PhD\, RN\, ChristianaCare Health Services\n\n\n\n  \nUse the below link to register and/or nominate a Mentor of the Year! \nhttps://www.de-ctr.org/redcap/surveys/?s=CX8TDE9TMEFPWE7A \n\nWe hope to see you there!\nQuestions?  Contact Mentoring@de-ctr.org.
URL:https://www.de-ctr.org/event/register-now-for-jin-care-2026/
LOCATION:Doubletree by Hilton Wilmington\, 4727 Concord Pike\, Wilmington\, Delaware\, 19803
CATEGORIES:ACCEL Event,JIN
ORGANIZER;CN="JIN (Junior Investigators Network)":MAILTO:JIN@de-ctr.org
END:VEVENT
BEGIN:VEVENT
DTSTART;TZID=America/New_York:20260129T090000
DTEND;TZID=America/New_York:20260129T093000
DTSTAMP:20260421T161258
CREATED:20260127T152014Z
LAST-MODIFIED:20260127T152014Z
UID:7120-1769677200-1769679000@www.de-ctr.org
SUMMARY:JIN Presentation:  The Community Engagement and Outreach Core - Who they are and how they can help
DESCRIPTION:Please join us at our JIN Touchbase call each Thursday at 9am.  This is a great opportunity to collaborate\, share ideas\, and hear a guest presentation from a member or friend of the JIN.  All are welcome! \n  \nThis week’s guest presentation will be: \n“The Community Engagement and Outreach Core- Who they are and how they can help” \n  \nPresented by: \nAbby Nerlinger\, MD \nNemours \n  \n  \n  \nThe Microsoft Teams link is included below under “Website”. \n  \nWant to learn more or join the JIN? Please email Mentoring@de-ctr.org to gain access to a variety of professional development resources\, including individual grant proposal review sessions\, as well as a (sometimes) weekly newsletter filled with news and funding opportunities. \nCheck us out on YouTube and X (formerly Twitter)!
URL:https://www.de-ctr.org/event/jin-presentation-the-community-engagement-and-outreach-core-who-they-are-and-how-they-can-help/
LOCATION:Microsoft Teams
CATEGORIES:JIN
ATTACH;FMTTYPE=image/png:https://www.de-ctr.org/wp-content/uploads/2024/04/JIN-Logo.png
ORGANIZER;CN="JIN (Junior Investigators Network)":MAILTO:JIN@de-ctr.org
END:VEVENT
END:VCALENDAR