BEGIN:VCALENDAR
VERSION:2.0
PRODID:-//The Delaware CTR ACCEL Program - ECPv6.15.20//NONSGML v1.0//EN
CALSCALE:GREGORIAN
METHOD:PUBLISH
X-WR-CALNAME:The Delaware CTR ACCEL Program
X-ORIGINAL-URL:https://www.de-ctr.org
X-WR-CALDESC:Events for The Delaware CTR ACCEL Program
REFRESH-INTERVAL;VALUE=DURATION:PT1H
X-Robots-Tag:noindex
X-PUBLISHED-TTL:PT1H
BEGIN:VTIMEZONE
TZID:America/New_York
BEGIN:DAYLIGHT
TZOFFSETFROM:-0500
TZOFFSETTO:-0400
TZNAME:EDT
DTSTART:20240310T070000
END:DAYLIGHT
BEGIN:STANDARD
TZOFFSETFROM:-0400
TZOFFSETTO:-0500
TZNAME:EST
DTSTART:20241103T060000
END:STANDARD
BEGIN:DAYLIGHT
TZOFFSETFROM:-0500
TZOFFSETTO:-0400
TZNAME:EDT
DTSTART:20250309T070000
END:DAYLIGHT
BEGIN:STANDARD
TZOFFSETFROM:-0400
TZOFFSETTO:-0500
TZNAME:EST
DTSTART:20251102T060000
END:STANDARD
BEGIN:DAYLIGHT
TZOFFSETFROM:-0500
TZOFFSETTO:-0400
TZNAME:EDT
DTSTART:20260308T070000
END:DAYLIGHT
BEGIN:STANDARD
TZOFFSETFROM:-0400
TZOFFSETTO:-0500
TZNAME:EST
DTSTART:20261101T060000
END:STANDARD
END:VTIMEZONE
BEGIN:VEVENT
DTSTART;TZID=America/New_York:20251028T120000
DTEND;TZID=America/New_York:20251028T130000
DTSTAMP:20260421T221441
CREATED:20251027T133518Z
LAST-MODIFIED:20251027T133518Z
UID:6894-1761652800-1761656400@www.de-ctr.org
SUMMARY:Innovative Discovery Series - Food Security and Stigma
DESCRIPTION:  \nFood insecurity is of increasing concern and affects millions of Americans\, yet the invisible burden of stigma often prevents individuals from accessing the nutritional support they need. This presentation explores how stigma associated with poverty\, race\, and food assistance creates barriers to food security at both structural and individual levels. Drawing on new research including the Stigma and Food Inequity Framework\, we will examine how shame\, discrimination\, and stereotype threat shape food purchasing behaviors and program participation. From people disguising themselves when using benefit cards to parents sacrificing meals for their children\, we will uncover the hidden manifestations of stigma. The talk will highlight evidence-based interventions to reduce stigma at multiple levels. \nLearn more \nWhen: Tuesday\, October 28\, 2025 – Noon – 1:00 P.M. \nWhere: Virtual Presentation through Microsoft Teams
URL:https://www.de-ctr.org/event/innovative-discovery-series-food-security-and-stigma/
LOCATION:Microsoft Teams
CATEGORIES:Innovative Discovery Series (IDS)
END:VEVENT
END:VCALENDAR