BEGIN:VCALENDAR
VERSION:2.0
PRODID:-//The Delaware CTR ACCEL Program - ECPv6.15.20//NONSGML v1.0//EN
CALSCALE:GREGORIAN
METHOD:PUBLISH
X-ORIGINAL-URL:https://www.de-ctr.org
X-WR-CALDESC:Events for The Delaware CTR ACCEL Program
REFRESH-INTERVAL;VALUE=DURATION:PT1H
X-Robots-Tag:noindex
X-PUBLISHED-TTL:PT1H
BEGIN:VTIMEZONE
TZID:America/New_York
BEGIN:DAYLIGHT
TZOFFSETFROM:-0500
TZOFFSETTO:-0400
TZNAME:EDT
DTSTART:20230312T070000
END:DAYLIGHT
BEGIN:STANDARD
TZOFFSETFROM:-0400
TZOFFSETTO:-0500
TZNAME:EST
DTSTART:20231105T060000
END:STANDARD
BEGIN:DAYLIGHT
TZOFFSETFROM:-0500
TZOFFSETTO:-0400
TZNAME:EDT
DTSTART:20240310T070000
END:DAYLIGHT
BEGIN:STANDARD
TZOFFSETFROM:-0400
TZOFFSETTO:-0500
TZNAME:EST
DTSTART:20241103T060000
END:STANDARD
BEGIN:DAYLIGHT
TZOFFSETFROM:-0500
TZOFFSETTO:-0400
TZNAME:EDT
DTSTART:20250309T070000
END:DAYLIGHT
BEGIN:STANDARD
TZOFFSETFROM:-0400
TZOFFSETTO:-0500
TZNAME:EST
DTSTART:20251102T060000
END:STANDARD
END:VTIMEZONE
BEGIN:VEVENT
DTSTART;TZID=America/New_York:20240801T090000
DTEND;TZID=America/New_York:20240801T093000
DTSTAMP:20260422T224023
CREATED:20240731T113857Z
LAST-MODIFIED:20240731T113857Z
UID:6000-1722502800-1722504600@www.de-ctr.org
SUMMARY:JIN Presentation: Delaware INBRE RFAs: Pilot & Research Projects
DESCRIPTION:Delaware INBRE RFAs: Pilot & Research Projects \nPresented by Anjana Bhat\, PT\, PhD\, University of Delaware \n  \nPlease join us at our JIN Touchbase call each Thursday at 9am.  This is a great opportunity to collaborate\, share ideas\, and hear a guest presentation from a member or friend of the JIN.  All are welcome! \n  \nThe Microsoft Teams link is included below under “Website”. \n  \nWant to learn more or join the JIN?  Please email JIN@de-ctr.org to gain access to a variety of professional development resources\, including individual grant proposal review sessions\, as well as a (sometimes) weekly newsletter filled with news and funding opportunities. \nCheck us out on YouTube and X (formerly Twitter)!
URL:https://www.de-ctr.org/event/jin-presentation-delaware-inbre-rfas-pilot-research-projects/
LOCATION:Microsoft Teams
CATEGORIES:JIN
ATTACH;FMTTYPE=image/png:https://www.de-ctr.org/wp-content/uploads/2024/04/JIN-Logo.png
ORGANIZER;CN="JIN (Junior Investigators Network)":MAILTO:JIN@de-ctr.org
END:VEVENT
BEGIN:VEVENT
DTSTART;TZID=America/New_York:20240801T120000
DTEND;TZID=America/New_York:20240801T130000
DTSTAMP:20260422T224023
CREATED:20240709T163552Z
LAST-MODIFIED:20240709T165017Z
UID:5967-1722513600-1722517200@www.de-ctr.org
SUMMARY:Tech Talk: Expanding aiNsect’s Data Footprint for Equitable Health Outcomes In Our Lifetime
DESCRIPTION:Fruit flies have been used as model organisms for over 100 years. As a result\, there exists a wealth of information on their genetic\, neural\, behavioral\, and physiological characteristics. With modern technology these data types can be processed toward a general synthesis of biological understanding\, allowing rapid testing\, and understanding of human biology without the need for human subjects. aiNsect is a next-generation artificial intelligence that aims to facilitate the translation of basic biological research with fruit flies into meaningful outcomes for equitable human health. In this talk\, Chase Stratton\, PhD\, Delaware State University\, will cover the general approach he is taking to develop and train aiNsect’s digital brain\, the data that it will process\, and the potential of its applications. \nMeet the Speaker\n   \n\n\nChase Stratton\, PhDAssistant Professor\, BiologyDelaware State University\nMy research background is in sustainable pest management and data science. I study ways to manipulate agricultural settings with natural products\, that reduce insect pest presence or damage with minimal environmental impacts. I am generally interested in plant-insect-microbe interactions\, chemical ecology\, bioinformatics (specifically in the realm of plant phylogenies)\, cheminformatics\, and writing code to assist in complex analyses. As the director of the Data Science Research and Education Hub at DSU Downtown\, I am expanding the machine learning infrastructure available to DSU faculty and students and will provide training opportunities for anyone interested in exploring high-performance computing in their research.\n\n \nMicrosoft TeamsJoin the meeting nowMeeting ID: 262 549 558 701Passcode: AikkikDial-in by phone+1 302-483-7154\,\,474430086# United States\, WilmingtonFind a local numberPhone conference ID: 474 430 086#For organizers: Meeting options | Reset dial-in PIN\n \n \n\n\nPlease RSVP to Debra.Reese@ChristianaCare.org Include your name\, email address\, and institution/organization.  We will provide instructions on obtaining CME credit for attendance. \nWork supported by an Institutional Development Award (IDeA) from the National Institute of General Medical Sciences of the National Institutes of Health under grant number U54-GM104941 (PI:Hicks) and the State of Delaware.
URL:https://www.de-ctr.org/event/tech-talk-expanding-ainsects-data-footprint-for-equitable-health-outcomes-in-our-lifetime/
LOCATION:Microsoft Teams
CATEGORIES:Tech Talk Series
END:VEVENT
END:VCALENDAR