BEGIN:VCALENDAR
VERSION:2.0
PRODID:-//The Delaware CTR ACCEL Program - ECPv6.15.20//NONSGML v1.0//EN
CALSCALE:GREGORIAN
METHOD:PUBLISH
X-ORIGINAL-URL:https://www.de-ctr.org
X-WR-CALDESC:Events for The Delaware CTR ACCEL Program
REFRESH-INTERVAL;VALUE=DURATION:PT1H
X-Robots-Tag:noindex
X-PUBLISHED-TTL:PT1H
BEGIN:VTIMEZONE
TZID:America/New_York
BEGIN:DAYLIGHT
TZOFFSETFROM:-0500
TZOFFSETTO:-0400
TZNAME:EDT
DTSTART:20250309T070000
END:DAYLIGHT
BEGIN:STANDARD
TZOFFSETFROM:-0400
TZOFFSETTO:-0500
TZNAME:EST
DTSTART:20251102T060000
END:STANDARD
BEGIN:DAYLIGHT
TZOFFSETFROM:-0500
TZOFFSETTO:-0400
TZNAME:EDT
DTSTART:20260308T070000
END:DAYLIGHT
BEGIN:STANDARD
TZOFFSETFROM:-0400
TZOFFSETTO:-0500
TZNAME:EST
DTSTART:20261101T060000
END:STANDARD
BEGIN:DAYLIGHT
TZOFFSETFROM:-0500
TZOFFSETTO:-0400
TZNAME:EDT
DTSTART:20270314T070000
END:DAYLIGHT
BEGIN:STANDARD
TZOFFSETFROM:-0400
TZOFFSETTO:-0500
TZNAME:EST
DTSTART:20271107T060000
END:STANDARD
END:VTIMEZONE
BEGIN:VEVENT
DTSTART;VALUE=DATE:20260413
DTEND;VALUE=DATE:20260416
DTSTAMP:20260421T211934
CREATED:20260126T172528Z
LAST-MODIFIED:20260126T172528Z
UID:7111-1776038400-1776297599@www.de-ctr.org
SUMMARY:IDeA State Cancer Trainee Research Conference
DESCRIPTION:IDeA State Cancer Trainee Research Conference\nThe WVU Cancer Institute will host a first‑of‑its‑kind Trainee Symposium for IDeA State Trainees on April 13–15\, 2026\, in Morgantown\, West Virginia. Supported by an NCI R13 conference grant\, the event will bring together graduate trainees and faculty to explore the theme “The Intersection of Cancer and Metabolism.”  Travel\, lodging\, and registration are covered for trainees who submit an abstract.
URL:https://www.de-ctr.org/event/idea-state-cancer-trainee-research-conference/
LOCATION:Morgantown Marriott at Waterfront Place\, Two Waterfront Place\, Morgantown\, WV\, 26501\, United States
CATEGORIES:Other Event
END:VEVENT
BEGIN:VEVENT
DTSTART;TZID=America/New_York:20260428T120000
DTEND;TZID=America/New_York:20260428T130000
DTSTAMP:20260421T211934
CREATED:20260408T183615Z
LAST-MODIFIED:20260408T183615Z
UID:7366-1777377600-1777381200@www.de-ctr.org
SUMMARY:Innovative Discovery Series - Systems level mechanisms of memory impairment converge across a range of neurological disease
DESCRIPTION:Learning and memory impairments are frequently identified in people with a range of neurological disorders including Alzheimer’s disease\, epilepsy\, and autism spectrum disorders. These impairments have a major negative impact on quality of life and therefore it is critical that effective treatments are identified. Current approaches target disease specific mechanisms\, but this has resulted in treatments with a very modest impact. We have recognized similarities in patterns of neuronal action potential dynamics across diseases raising the hypothesis that modulation of dynamics could improve outcomes independently of underlying diagnosis. Dr. Rodney Scott\, Nemours Children’s Health\, will show data supporting this hypothesis and evidence that intervening at the level of inputs to neural systems can improve cognitive function in rodent models of neurological disease. \nLearn more \nWhen: Tuesday\, April 28\, 2026 – Noon – 1:00 P.M. \nWhere: Virtual Presentation through Microsoft Teams
URL:https://www.de-ctr.org/event/innovative-discovery-series-systems-level-mechanisms-of-memory-impairment-converge-across-a-range-of-neurological-disease/
LOCATION:Microsoft Teams
CATEGORIES:Innovative Discovery Series (IDS)
END:VEVENT
BEGIN:VEVENT
DTSTART;TZID=America/New_York:20260521T090000
DTEND;TZID=America/New_York:20260521T093000
DTSTAMP:20260421T211934
CREATED:20260127T153225Z
LAST-MODIFIED:20260127T153225Z
UID:7137-1779354000-1779355800@www.de-ctr.org
SUMMARY:JIN Presentation:  TBD
DESCRIPTION:Please join us at our JIN Touchbase call each Thursday at 9am.  This is a great opportunity to collaborate\, share ideas\, and hear a guest presentation from a member or friend of the JIN.  All are welcome! \n  \nThis week’s guest presentation will be: \n“TBD” \n  \nPresented by: \nJennifer Sims-Mourtada\, PhD \nChristianaCare \n  \n  \n  \nThe Microsoft Teams link is included below under “Website”. \n  \nWant to learn more or join the JIN? Please email Mentoring@de-ctr.org to gain access to a variety of professional development resources\, including individual grant proposal review sessions\, as well as a (sometimes) weekly newsletter filled with news and funding opportunities. \nCheck us out on YouTube and X (formerly Twitter)!
URL:https://www.de-ctr.org/event/jin-presentation-tbd-2/
LOCATION:Microsoft Teams
CATEGORIES:JIN
ATTACH;FMTTYPE=image/png:https://www.de-ctr.org/wp-content/uploads/2024/04/JIN-Logo.png
ORGANIZER;CN="JIN (Junior Investigators Network)":MAILTO:JIN@de-ctr.org
END:VEVENT
END:VCALENDAR