BEGIN:VCALENDAR
VERSION:2.0
PRODID:-//The Delaware CTR ACCEL Program - ECPv6.15.20//NONSGML v1.0//EN
CALSCALE:GREGORIAN
METHOD:PUBLISH
X-WR-CALNAME:The Delaware CTR ACCEL Program
X-ORIGINAL-URL:https://www.de-ctr.org
X-WR-CALDESC:Events for The Delaware CTR ACCEL Program
REFRESH-INTERVAL;VALUE=DURATION:PT1H
X-Robots-Tag:noindex
X-PUBLISHED-TTL:PT1H
BEGIN:VTIMEZONE
TZID:America/New_York
BEGIN:DAYLIGHT
TZOFFSETFROM:-0500
TZOFFSETTO:-0400
TZNAME:EDT
DTSTART:20250309T070000
END:DAYLIGHT
BEGIN:STANDARD
TZOFFSETFROM:-0400
TZOFFSETTO:-0500
TZNAME:EST
DTSTART:20251102T060000
END:STANDARD
BEGIN:DAYLIGHT
TZOFFSETFROM:-0500
TZOFFSETTO:-0400
TZNAME:EDT
DTSTART:20260308T070000
END:DAYLIGHT
BEGIN:STANDARD
TZOFFSETFROM:-0400
TZOFFSETTO:-0500
TZNAME:EST
DTSTART:20261101T060000
END:STANDARD
BEGIN:DAYLIGHT
TZOFFSETFROM:-0500
TZOFFSETTO:-0400
TZNAME:EDT
DTSTART:20270314T070000
END:DAYLIGHT
BEGIN:STANDARD
TZOFFSETFROM:-0400
TZOFFSETTO:-0500
TZNAME:EST
DTSTART:20271107T060000
END:STANDARD
END:VTIMEZONE
BEGIN:VEVENT
DTSTART;TZID=America/New_York:20260305T090000
DTEND;TZID=America/New_York:20260305T093000
DTSTAMP:20260421T150211
CREATED:20260127T152642Z
LAST-MODIFIED:20260127T152642Z
UID:7128-1772701200-1772703000@www.de-ctr.org
SUMMARY:JIN Presentation:  Sudden Cardiac Arrest Preparedness in Delaware State Schools
DESCRIPTION:Please join us at our JIN Touchbase call each Thursday at 9am.  This is a great opportunity to collaborate\, share ideas\, and hear a guest presentation from a member or friend of the JIN.  All are welcome! \n  \nThis week’s guest presentation will be: \n“Sudden Cardiac Arrest Preparedness in Delaware State Schools” \n  \nPresented by: \nSean Connolly\, MD \nNemours \n  \n  \n  \nThe Microsoft Teams link is included below under “Website”. \n  \nWant to learn more or join the JIN? Please email Mentoring@de-ctr.org to gain access to a variety of professional development resources\, including individual grant proposal review sessions\, as well as a (sometimes) weekly newsletter filled with news and funding opportunities. \nCheck us out on YouTube and X (formerly Twitter)!
URL:https://www.de-ctr.org/event/jin-presentation-sudden-cardiac-arrest-preparedness-in-delaware-state-schools/
LOCATION:Microsoft Teams
CATEGORIES:JIN
ATTACH;FMTTYPE=image/png:https://www.de-ctr.org/wp-content/uploads/2024/04/JIN-Logo.png
ORGANIZER;CN="JIN (Junior Investigators Network)":MAILTO:JIN@de-ctr.org
END:VEVENT
BEGIN:VEVENT
DTSTART;TZID=America/New_York:20260305T120000
DTEND;TZID=America/New_York:20260305T130000
DTSTAMP:20260421T150211
CREATED:20260212T152910Z
LAST-MODIFIED:20260212T152910Z
UID:7155-1772712000-1772715600@www.de-ctr.org
SUMMARY:Tech Talk: Systematic Reviews: An Overview and Tips for Conducting a Successful Review
DESCRIPTION:Thursday March 5\, 2026 from 12:00-1:00pm\nVirtual Teams Presentation \n       Systematic Reviews are at the top of the evidence pyramid\, and they don’t require grant funding or a lab coat. You can get started today. Whether you are an experienced reviewer or a beginner to systematic reviews\, you will gain the information you need to not only conduct a systematic review\, but to conduct a better one. Discover the best practices and current guidance\, as well as new changes\, trends\, and expectations for conducting systematic reviews. This presentation will not only share knowledge but will encourage you to get started by finding a topic you care about and being responsible in how you conduct research to ensure the highest quality and safety of the outcomes.  \nMeet the Speaker\n \n\n\nStephanie Roth\, MLIS \nMedical Librarian\, ChristianaCare \nStephanie Roth is a Medical Librarian with diverse experience and training in medical research\, health sciences libraries\, teaching\, and communication. Her publications include a book chapter\, “Teaching the Review Process” in Piecing Together Systematic Reviews and Other Evidence Syntheses\, and a chapter on developing evidence synthesis protocols. In addition\, she has published several works such as\, “Transforming the Systematic Review Service: A Team-Based Model to Support the Educational Needs of Researchers”\, “What is Genomic Medicine”\, “Machine Learning Methods for Systematic Reviews”\, and most recently\, SWiRL-SR (Standards for Working with Research Librarians on Systematic Reviews). \n\n\n \n\n \nMicrosoft TeamsJoin the meeting nowMeeting ID: 233 095 064 601 9Passcode: Xb7Td9gb \n\n\n \n\nDial in by phone    +1 302-483-7154\,\,702761716# United States\, Wilmington \n\n\n\n    Phone conference ID: 702 761 716# \n \n\nTo receive instructions on obtaining (1) CME credit for attendance\, please RSVP to Debra.Reese@ChristianaCare.org. \n  \n\n\n\nWork supported by an Institutional Development Award (IDeA) from the National Institute of General Medical Sciences of the National Institutes of Health under grant number U54-GM104941 (PI:Hicks) and the State of Delaware. \n\n\n  \nView flyer here
URL:https://www.de-ctr.org/event/tech-talk-systematic-reviews-an-overview-and-tips-for-conducting-a-successful-review/
LOCATION:Microsoft Teams
CATEGORIES:Tech Talk Series
END:VEVENT
BEGIN:VEVENT
DTSTART;TZID=America/New_York:20260309T130000
DTEND;TZID=America/New_York:20260309T160000
DTSTAMP:20260421T150211
CREATED:20260126T171522Z
LAST-MODIFIED:20260126T171522Z
UID:7106-1773061200-1773072000@www.de-ctr.org
SUMMARY:DE CTR ACCEL Program’s 13th Annual Scientific Symposium
DESCRIPTION:Register for the DE CTR ACCEL Program’s 13th Annual Scientific Symposium\nThe DE CTR ACCEL Program invites the community to its 13th Annual Scientific Symposium on March 9\, 2026\, from 1–4 pm at the University of Delaware’s STAR Campus Tower Audion. This free event will showcase innovative clinical and translational research projects. Parking and light refreshments are provided\, and registration is required.
URL:https://www.de-ctr.org/event/de-ctr-accel-programs-13th-annual-scientific-symposium/
LOCATION:University of Delaware STAR Campus Tower Audion\, 100 Discovery Boulevard\, Newark\, DE\, 19713\, United States
CATEGORIES:ACCEL Event
END:VEVENT
BEGIN:VEVENT
DTSTART;TZID=America/New_York:20260312T090000
DTEND;TZID=America/New_York:20260312T093000
DTSTAMP:20260421T150211
CREATED:20260127T152853Z
LAST-MODIFIED:20260127T152853Z
UID:7131-1773306000-1773307800@www.de-ctr.org
SUMMARY:JIN Presentation:  Improving Support and Care Delivery for Families of Children with Chronic and Life-limiting Conditions
DESCRIPTION:Please join us at our JIN Touchbase call each Thursday at 9am.  This is a great opportunity to collaborate\, share ideas\, and hear a guest presentation from a member or friend of the JIN.  All are welcome! \n  \nThis week’s guest presentation will be: \n“Improving Support and Care Delivery for Families of Children with Chronic and Life-limiting Conditions” \n  \nPresented by: \nSarah Wawrzynski\, PhD \nNemours \n  \n  \n  \nThe Microsoft Teams link is included below under “Website”. \n  \nWant to learn more or join the JIN? Please email Mentoring@de-ctr.org to gain access to a variety of professional development resources\, including individual grant proposal review sessions\, as well as a (sometimes) weekly newsletter filled with news and funding opportunities. \nCheck us out on YouTube and X (formerly Twitter)!
URL:https://www.de-ctr.org/event/jin-presentation-improving-support-and-care-delivery-for-families-of-children-with-chronic-and-life-limiting-conditions/
LOCATION:Microsoft Teams
CATEGORIES:JIN
ATTACH;FMTTYPE=image/png:https://www.de-ctr.org/wp-content/uploads/2024/04/JIN-Logo.png
ORGANIZER;CN="JIN (Junior Investigators Network)":MAILTO:JIN@de-ctr.org
END:VEVENT
BEGIN:VEVENT
DTSTART;TZID=America/New_York:20260319T090000
DTEND;TZID=America/New_York:20260319T093000
DTSTAMP:20260421T150211
CREATED:20260127T153025Z
LAST-MODIFIED:20260127T153025Z
UID:7134-1773910800-1773912600@www.de-ctr.org
SUMMARY:JIN Presentation:  Exploring the Impact of Hormones on Brain Tissue Mechanics using Magnetic Resonance Elastography
DESCRIPTION:Please join us at our JIN Touchbase call each Thursday at 9am.  This is a great opportunity to collaborate\, share ideas\, and hear a guest presentation from a member or friend of the JIN.  All are welcome! \n  \nThis week’s guest presentation will be: \n“Exploring the Impact of Hormones on Brain Tissue Mechanics using Magnetic Resonance Elastography” \n  \nPresented by: \nKatrina Milbocker\, PhD \nUniversity of Delaware \n  \n  \n  \nThe Microsoft Teams link is included below under “Website”. \n  \nWant to learn more or join the JIN? Please email Mentoring@de-ctr.org to gain access to a variety of professional development resources\, including individual grant proposal review sessions\, as well as a (sometimes) weekly newsletter filled with news and funding opportunities. \nCheck us out on YouTube and X (formerly Twitter)!
URL:https://www.de-ctr.org/event/jin-presentation-exploring-the-impact-of-hormones-on-brain-tissue-mechanics-using-magnetic-resonance-elastography/
LOCATION:Microsoft Teams
CATEGORIES:JIN
ATTACH;FMTTYPE=image/png:https://www.de-ctr.org/wp-content/uploads/2024/04/JIN-Logo.png
ORGANIZER;CN="JIN (Junior Investigators Network)":MAILTO:JIN@de-ctr.org
END:VEVENT
END:VCALENDAR