BEGIN:VCALENDAR
VERSION:2.0
PRODID:-//The Delaware CTR ACCEL Program - ECPv6.15.20//NONSGML v1.0//EN
CALSCALE:GREGORIAN
METHOD:PUBLISH
X-WR-CALNAME:The Delaware CTR ACCEL Program
X-ORIGINAL-URL:https://www.de-ctr.org
X-WR-CALDESC:Events for The Delaware CTR ACCEL Program
REFRESH-INTERVAL;VALUE=DURATION:PT1H
X-Robots-Tag:noindex
X-PUBLISHED-TTL:PT1H
BEGIN:VTIMEZONE
TZID:America/New_York
BEGIN:DAYLIGHT
TZOFFSETFROM:-0500
TZOFFSETTO:-0400
TZNAME:EDT
DTSTART:20240310T070000
END:DAYLIGHT
BEGIN:STANDARD
TZOFFSETFROM:-0400
TZOFFSETTO:-0500
TZNAME:EST
DTSTART:20241103T060000
END:STANDARD
BEGIN:DAYLIGHT
TZOFFSETFROM:-0500
TZOFFSETTO:-0400
TZNAME:EDT
DTSTART:20250309T070000
END:DAYLIGHT
BEGIN:STANDARD
TZOFFSETFROM:-0400
TZOFFSETTO:-0500
TZNAME:EST
DTSTART:20251102T060000
END:STANDARD
BEGIN:DAYLIGHT
TZOFFSETFROM:-0500
TZOFFSETTO:-0400
TZNAME:EDT
DTSTART:20260308T070000
END:DAYLIGHT
BEGIN:STANDARD
TZOFFSETFROM:-0400
TZOFFSETTO:-0500
TZNAME:EST
DTSTART:20261101T060000
END:STANDARD
END:VTIMEZONE
BEGIN:VEVENT
DTSTART;TZID=America/New_York:20250403T120000
DTEND;TZID=America/New_York:20250403T130000
DTSTAMP:20260422T071435
CREATED:20250320T081717Z
LAST-MODIFIED:20250320T081717Z
UID:6447-1743681600-1743685200@www.de-ctr.org
SUMMARY:Tech Talk: Data linkages for pharmacoepidemiology:   Case study on effects of shingles vaccination in older adults
DESCRIPTION:Thursday April 3\, 2025 from 12:00-1:00pm\nVirtual Teams Presentation \nIn April’s TechTalk\, Daniel Harris\, Ph.D.\, will describe how he links and uses large health administrative datasets to conduct pharmacoepidemiologic studies. His presentation will be focused on insights from an industry-funded grant to investigate the real-world effectiveness of the recombinant herpes zoster vaccine in nursing home residents. By the end of his presentation\, you will be familiar with health administrative data sources in the US\, methods for data linkages\, and advanced causal inference strategies in pharmacoepidemiology. \nMeet the Speaker\n \n\n\nDaniel Harris\, Ph.D.Assistant Professor\, EpidemiologyUniversity of Delaware \nDaniel Harris\, Ph.D. is an assistant professor of epidemiology at the University of Delaware.  As a pharmacoepidemiologist\, Dr. Harris’s research focuses on the use\, safety\, and effectiveness of drugs and vaccines among older adults \n\n\n \n\nMicrosoft Teams \nJoin the meeting nowMeeting ID: 260 254 371 463Passcode: 5tL3rC9q \n\nDial in by phone \n+1 302-483-7154\,\,959034717# United States\, WilmingtonFind a local numberPhone conference ID: 959 034 717# \n\n\n\nWork supported by an Institutional Development Award (IDeA) from the National Institute of General Medical Sciences of the National Institutes of Health under grant number U54-GM104941 (PI:Hicks) and the State of Delaware.
URL:https://www.de-ctr.org/event/tech-talk-data-linkages-for-pharmacoepidemiology-case-study-on-effects-of-shingles-vaccination-in-older-adults/
LOCATION:Microsoft Teams
CATEGORIES:Tech Talk Series
END:VEVENT
END:VCALENDAR